BEGIN:VCALENDAR
VERSION:2.0
PRODID:-// - ECPv6.15.20//NONSGML v1.0//EN
CALSCALE:GREGORIAN
METHOD:PUBLISH
X-ORIGINAL-URL:https://mondays-club.com
X-WR-CALDESC:Veranstaltungen für 
REFRESH-INTERVAL;VALUE=DURATION:PT1H
X-Robots-Tag:noindex
X-PUBLISHED-TTL:PT1H
BEGIN:VTIMEZONE
TZID:Europe/Berlin
BEGIN:DAYLIGHT
TZOFFSETFROM:+0100
TZOFFSETTO:+0200
TZNAME:CEST
DTSTART:20230326T010000
END:DAYLIGHT
BEGIN:STANDARD
TZOFFSETFROM:+0200
TZOFFSETTO:+0100
TZNAME:CET
DTSTART:20231029T010000
END:STANDARD
BEGIN:DAYLIGHT
TZOFFSETFROM:+0100
TZOFFSETTO:+0200
TZNAME:CEST
DTSTART:20240331T010000
END:DAYLIGHT
BEGIN:STANDARD
TZOFFSETFROM:+0200
TZOFFSETTO:+0100
TZNAME:CET
DTSTART:20241027T010000
END:STANDARD
BEGIN:DAYLIGHT
TZOFFSETFROM:+0100
TZOFFSETTO:+0200
TZNAME:CEST
DTSTART:20250330T010000
END:DAYLIGHT
BEGIN:STANDARD
TZOFFSETFROM:+0200
TZOFFSETTO:+0100
TZNAME:CET
DTSTART:20251026T010000
END:STANDARD
END:VTIMEZONE
BEGIN:VEVENT
DTSTART;TZID=Europe/Berlin:20240801T000000
DTEND;TZID=Europe/Berlin:20240804T235959
DTSTAMP:20260422T211128
CREATED:20240713T173927Z
LAST-MODIFIED:20240806T075120Z
UID:171-1722470400-1722815999@mondays-club.com
SUMMARY:Family Camp 2024
DESCRIPTION:Family Camp 2024  Members only
URL:https://mondays-club.com/event/family-camp-2024/
ORGANIZER;CN="Mondays Club e.V.":MAILTO:info@mondays-club.com
END:VEVENT
BEGIN:VEVENT
DTSTART;VALUE=DATE:20240830
DTEND;VALUE=DATE:20240831
DTSTAMP:20260422T211128
CREATED:20240713T174554Z
LAST-MODIFIED:20240714T192333Z
UID:173-1724976000-1725062399@mondays-club.com
SUMMARY:Messeabend
DESCRIPTION:Members only
URL:https://mondays-club.com/event/messeschoppen/
LOCATION:Michaelismesse\, Miltenberg\, Bayern\, 63897\, Deutschland
ATTACH;FMTTYPE=image/png:https://mondays-club.com/wp-content/uploads/2024/07/mm.png
END:VEVENT
END:VCALENDAR