BEGIN:VCALENDAR
VERSION:2.0
PRODID:-// - ECPv6.15.20//NONSGML v1.0//EN
CALSCALE:GREGORIAN
METHOD:PUBLISH
X-ORIGINAL-URL:https://mondays-club.com
X-WR-CALDESC:Veranstaltungen für 
REFRESH-INTERVAL;VALUE=DURATION:PT1H
X-Robots-Tag:noindex
X-PUBLISHED-TTL:PT1H
BEGIN:VTIMEZONE
TZID:Europe/Berlin
BEGIN:DAYLIGHT
TZOFFSETFROM:+0100
TZOFFSETTO:+0200
TZNAME:CEST
DTSTART:20230326T010000
END:DAYLIGHT
BEGIN:STANDARD
TZOFFSETFROM:+0200
TZOFFSETTO:+0100
TZNAME:CET
DTSTART:20231029T010000
END:STANDARD
BEGIN:DAYLIGHT
TZOFFSETFROM:+0100
TZOFFSETTO:+0200
TZNAME:CEST
DTSTART:20240331T010000
END:DAYLIGHT
BEGIN:STANDARD
TZOFFSETFROM:+0200
TZOFFSETTO:+0100
TZNAME:CET
DTSTART:20241027T010000
END:STANDARD
BEGIN:DAYLIGHT
TZOFFSETFROM:+0100
TZOFFSETTO:+0200
TZNAME:CEST
DTSTART:20250330T010000
END:DAYLIGHT
BEGIN:STANDARD
TZOFFSETFROM:+0200
TZOFFSETTO:+0100
TZNAME:CET
DTSTART:20251026T010000
END:STANDARD
END:VTIMEZONE
BEGIN:VEVENT
DTSTART;TZID=Europe/Berlin:20241026T173000
DTEND;TZID=Europe/Berlin:20241026T200000
DTSTAMP:20260422T180637
CREATED:20240726T200942Z
LAST-MODIFIED:20241008T145743Z
UID:339-1729963800-1729972800@mondays-club.com
SUMMARY:Theatergruppe "Die Cuvées"
DESCRIPTION:Der Mondays Club und das Cuvée Theater präsentiert„Die Wunderübung – eine fast zu realistische Komödie“ \nSie benötigen wie Frau und Herr Dorek professionelle Unterstützung um Ihre Ehe in die richtige Richtung zu lenken? Dann kommen Sie zur Aufführung des Cuvée Theaters im Gemeinschaftshaus in Richelbach und erfahren Sie\, ob Frau und Herr Dorek durch die Wunderübung wierder zusammen finden. \n\nDie Karten können ab sofort bei Martin Wolz (Kapellenstr 35\, Richelbach) oder beim MBN (Rauenberger Str\, Neunkirchen) abgeholt werden. Es gibt 150 Plätze\, die Karten sind kostenlos aber für die Platzreservierung notwendig! \nFür das leibliche Wohl ist gesorgt\, Einlass ab 17:00 Uhr \nFlyer zur Veranstaltung
URL:https://mondays-club.com/event/theater/
LOCATION:Gemeinschafshaus Richelbach\, Schulstraße 1\, Richelbach\, Bayern\, 63930\, Germany
ATTACH;FMTTYPE=image/jpeg:https://mondays-club.com/wp-content/uploads/2024/10/flyer.jpg
ORGANIZER;CN="Mondays Club e.V.":MAILTO:info@mondays-club.com
END:VEVENT
END:VCALENDAR